BEGIN:VCALENDAR
VERSION:2.0
PRODID:-//jerrykitchell.org - ECPv6.15.20//NONSGML v1.0//EN
CALSCALE:GREGORIAN
METHOD:PUBLISH
X-WR-CALNAME:jerrykitchell.org
X-ORIGINAL-URL:https://jerrykitchell.org
X-WR-CALDESC:Events for jerrykitchell.org
REFRESH-INTERVAL;VALUE=DURATION:PT1H
X-Robots-Tag:noindex
X-PUBLISHED-TTL:PT1H
BEGIN:VTIMEZONE
TZID:UTC
BEGIN:STANDARD
TZOFFSETFROM:+0000
TZOFFSETTO:+0000
TZNAME:UTC
DTSTART:20250101T000000
END:STANDARD
END:VTIMEZONE
BEGIN:VEVENT
DTSTART;TZID=UTC:20260425T160000
DTEND;TZID=UTC:20260425T210000
DTSTAMP:20260423T165421
CREATED:20260329T003525Z
LAST-MODIFIED:20260329T005641Z
UID:1102-1777132800-1777150800@jerrykitchell.org
SUMMARY:Encounter God's Greater Glory Ocala
DESCRIPTION:
URL:https://jerrykitchell.org/events/encounter-gods-greater-glory-ocala/
ATTACH;FMTTYPE=image/jpeg:https://jerrykitchell.org/wp-content/uploads/2026/03/April-25-Small-1.jpg
ORGANIZER;CN="Jerry Kitchell Ministries":MAILTO:jerrykitchellministries@gmail.com
END:VEVENT
END:VCALENDAR